View In:
ArcGIS JavaScript
ArcGIS Online map viewer
ArcGIS Earth
Service Description: Maas/DST_Maas_Ortho2021
Name: Maas/DST_Maas_Ortho2021
Description:
Single Fused Map Cache: false
Extent:
XMin: 174097.6063
YMin: 306480.9643
XMax: 201580.8517
YMax: 361232.8822
Spatial Reference: 28992
(28992)
LatestVCSWkid(0)
Initial Extent:
XMin: 174097.6063
YMin: 306480.9643
XMax: 201580.8517
YMax: 361232.8822
Spatial Reference: 28992
(28992)
LatestVCSWkid(0)
Full Extent:
XMin: 174097.6063
YMin: 306480.9643
XMax: 201580.8517
YMax: 361232.8822
Spatial Reference: 28992
(28992)
LatestVCSWkid(0)
Pixel Size X: 0.20000033038365245
Pixel Size Y: 0.19999970010227938
Band Count: 4
Pixel Type: U8
RasterFunction Infos: {"rasterFunctionInfos": [{
"name": "None",
"description": "",
"help": ""
}]}
Mensuration Capabilities: Basic
Inspection Capabilities:
Has Histograms: true
Has Colormap: false
Has Multi Dimensions : false
Rendering Rule:
Min Scale: 0
Max Scale: 0
Copyright Text:
Service Data Type: esriImageServiceDataTypeGeneric
Min Values: 0, 0, 0, 0
Max Values: 255, 255, 255, 255
Mean Values: 11.515531352723, 12.291633955624, 9.1994440236803, 37.222396881682
Standard Deviation Values: 30.3202552132, 31.416847948204, 24.144429644015, 90.034462165732
Object ID Field:
Fields:
None
Default Mosaic Method: Center
Allowed Mosaic Methods:
SortField:
SortValue: null
Mosaic Operator: First
Default Compression Quality: 75
Default Resampling Method: Bilinear
Max Record Count: null
Max Image Height: 4100
Max Image Width: 15000
Max Download Image Count: null
Max Mosaic Image Count: null
Allow Raster Function: true
Allow Copy: true
Allow Analysis: true
Allow Compute TiePoints: false
Supports Statistics: false
Supports Advanced Queries: false
Use StandardizedQueries: true
Raster Type Infos:
Name: Raster Dataset
Description: Supports all ArcGIS Raster Datasets
Help:
Has Raster Attribute Table: false
Edit Fields Info: null
Ownership Based AccessControl For Rasters: null
Child Resources:
Info
Histograms
Statistics
Key Properties
Legend
Raster Function Infos
Supported Operations:
Export Image
Identify
Measure
Compute Histograms
Compute Statistics Histograms
Get Samples
Compute Class Statistics
Query Boundary
Compute Pixel Location
Compute Angles
Validate
Project